BEGIN:VCALENDAR
VERSION:2.0
PRODID:-//Intand Corporation//Tandem//EN
METHOD:PUBLISH
BEGIN:VEVENT
DTSTAMP:20260422T172351Z
DTSTART:20231106T193000Z
DTEND:20231106T223000Z
TRANSP:TRANSPARENT
PRIORITY:0
SUMMARY:LMHS Fall Play Rehearsal (HS)
LOCATION:CC - Performing Arts Hall Stage\, CC -Performing Arts Hall
DESCRIPTION:Groups:\nLMHS Drama Club\n\nSchools:\nLake Middle/High School\
 n\nLocations:\nCC - Performing Arts Hall Stage\nCC -Performing Arts Hall\n
 \nContacts:\nCory Kosman\n\n
URL;VALUE=URI:http://lakelocal.tandem.co/index.php?type=view&action=event&
 id=121504
CREATED:20230816T153015Z
LAST-MODIFIED:20230816T153015Z
UID:event-121504-lakelocal@intand.com
END:VEVENT
END:VCALENDAR
